BEGIN:VCALENDAR
VERSION:2.0
PRODID:-//http://www2.movingimage.us//NONSGML kigkonsult.se iCalcreator 2.10.23//
X-WR-TIMEZONE:America/New_York
BEGIN:VEVENT
UID:20260421T144501CEST-2960gWtfVx@http://www2.movingimage.us
DTSTAMP:20260421T124501Z
DESCRIPTION:\n	Would you like to learn how to create an archive of sounds t
 hat represent your neighborhood? By thoughtfully listening to the people a
 nd the ecosystem (natural and human-made) of our neighborhoods\, as well a
 s the culture at large\, we can gain deep insights into our roles as membe
 rs of our communities. Documenting sounds can give us a rich sense of lear
 ning\, discovery\, belonging\, and purpose. Lavender Suarez will lead a me
 dia workshop featuring basic audio recording techniques (known as field re
 cording) to assist you in becoming a sonic explorer in your neighborhood. 
 Participants will be guided to use their cellphone's audio recording featu
 re to take recordings during the workshop. Please bring headphones and mak
 e sure you have storage space available on your phone to hold the recordin
 gs. The workshop will feature a meditative sound bath\, and participants w
 ill help gather an archive of sounds\, which will be accessible on the MoM
 I website. \n	\n\n\n	Join MoMI in supporting our partner\, The Blue Bus Pr
 oject\, with this series of free outside media workshops around Queens\, c
 alled the The Blue Bus Mobile Media Lab. The Blue Bus Project is a nonprof
 it 501(c)(3) organization committed to bringing participatory arts events 
 into underserved communities around NYC\, heightening awareness and encour
 aging social and environmental change through visual art\, performance\, a
 nd interdisciplinary workshops. The field recording workshop &amp\; sound 
 bath with artist Lavender Suarez is the first event of this series and wil
 l be offered in English and Spanish. It will take place in Jackson Heights
 \, on 34th avenue between 93rd and 94th Street\, and is co-sponsored by Em
 erald Isle Immigration Center\, 34th Avenue Open Streets\, and Together We
  Can. Please email any questions about this workshop to studio@movingimage
 .us \n	\n\n\n	This workshop is free with RSVP. Please complete this form t
 o register. This program is made possible (in part) by the Queens Council 
 on the Arts with public funds from the New York City Department of Cultura
 l Affairs in partnership with the City Council\, with additional support f
 rom Citizens Committee for New York City. \n	\n\n\n	TALLER GRABACIÓN DE CA
 MPO Y BAÑO DE SONIDO con Lavender Suarez \n\n\n	¿Te gustaría aprender a cr
 ear un archivo de sonidos como una forma de representar su vecindario? Al 
 escuchar atentamente a nuestras comunidades\, la gente\, el ecosistema (na
 tural y creado por el humano) y la cultura en general\, podemos obtener un
 a comprensión profunda de nuestros roles como miembros de la comunidad. Do
 cumentar los sonidos puede brindarle una rica sensación de aprendizaje\, d
 escubrimiento\, pertenencia y propósito. Lavender Suarez imparte este tall
 er que incluye técnicas básicas de grabación de audio (conocidas como grab
 ación de campo) para ayudarte a llevar a cabo una exploración sónica en tu
  vecindario. Por medio de la funcion de audio en tu telefono movíl\, apren
 derás a capturar sonidos representativos (favor de traer audífonos y asegu
 rarte que hay suficiente memoria en tu telefono para guardar grabaciones a
 ntes del taller). \n	\n\n\n	El taller contará con un baño de sonido medita
 tivo\, y se creará un archivo de los sonidos recopilados por los participa
 ntes del taller al que se podrá acceder en el sitio web del MoMI. \n	\n\n
 \n	Este taller es parte de una serie de talleres ofrecido por The Blue Bus
  Project\, y se presenta en colaboracion con: La Esmeralda (Emerald Isle I
 mmigration Center)\, 34th Ave Open Streets\, Together We Can\, y el Museo 
 del Imagen en Movimiento. Este programa es apoyado por el Consejo de Artes
  del Condado de Queens con fondos del Departamento de Asuntos Culturales d
 e la Ciudad de Nueva York\, y también del Comité de Ciudadanos de Nueva Yo
 rk. El taller se presentará el domingo 16 de mayo\, de 2 a 6 pm en la aven
 ida 34 (entre las calles 93 y 94). Para inscribirte\, llena este formulari
 o. Envíe sus preguntas por correo electrónico a studio@movingimage.us&nbsp
 \; \n
DTSTART:20210516T140000
DTEND:20210516T180000
LOCATION:34th Ave Open Street in Jackson Heights
SUMMARY:Field Recording Workshop & Sound Bath with Lavender Suarez
END:VEVENT
END:VCALENDAR
