BEGIN:VCALENDAR
VERSION:2.0
PRODID:-//http://www2.movingimage.us//NONSGML kigkonsult.se iCalcreator 2.10.23//
X-WR-TIMEZONE:America/New_York
BEGIN:VEVENT
UID:20260421T143234CEST-0692ELZU6w@http://www2.movingimage.us
DTSTAMP:20260421T123234Z
DESCRIPTION:\n	Learn the art of cameraless animation with direct filmmaking
  on 16mm film with Steve Cossman\, founder of Mono No Aware. \n\n\n	Brookl
 yn-based and founded in 2007\, Mono No Aware is a cinema-arts non-profit o
 rganization and film positive community working to promote connectivity th
 rough the cinematic experience. Their initiatives are in an effort to deep
 en our understanding of community through our relationship to visual cultu
 re. \n\n\n	Join MoMI in supporting our partner\, The Blue Bus Project\, wi
 th this series of free outside media workshops around Queens\, called the 
 The Blue Bus Mobile Media Lab. The Blue Bus Project is a nonprofit 501(c)(
 3) organization committed to bringing participatory arts events into under
 served communities around NYC\, heightening awareness and encouraging soci
 al and environmental change through visual art\, performance\, and interdi
 sciplinary workshops. \n\n\n	It will take place in the parking lot of the 
 New York Hall of Science (47-01 111th St)\, and is co-sponsored by Emerald
  Isle Immigration Center\, 34th Avenue Open Streets\, and Together We Can.
  Please email any questions about this workshop to studio@movingimage.us 
 \n\n\n	This workshop is free with RSVP. Please complete this form to regis
 ter. This program is made possible (in part) by the Queens Council on the 
 Arts with public funds from the New York City Department of Cultural Affai
 rs in partnership with the City Council\, with additional support from Cit
 izens Committee for New York City. \n\n\n	RODAJE DIRECTO con Steve Cossman
  de Mono No Aware \n\n\n	4 de junio\, de 2 a 5 p. M. \n\n\n	Estacionamient
 o del Salón de la Ciencia de Nueva York (calle 111\, al lado del parque de
  Flushing Meadows Corona) \n\n\n	Aprenda el arte de la animación sin cámar
 a con el rodaje directo en película de 16 mm. \n\n
DTSTART:20210604T140000
DTEND:20210604T170000
LOCATION:Parking Lot of New York Hall of Science (47-01 111th St)
SUMMARY:Direct Filmmaking with Steve Cossman of Mono No Aware
END:VEVENT
END:VCALENDAR
