BEGIN:VCALENDAR
VERSION:2.0
PRODID:-//http://www2.movingimage.us//NONSGML kigkonsult.se iCalcreator 2.10.23//
X-WR-TIMEZONE:America/New_York
BEGIN:VEVENT
UID:20260421T144500CEST-6430PIkUVr@http://www2.movingimage.us
DTSTAMP:20260421T124500Z
DESCRIPTION:Enjoy a culminating event featuring selections from each worksh
 op on display in the Museum’s Digital Learning Suite\, with an interactive
  green screen exhibit by visual artist Kamran Shahraray. The Blue Bus will
  also be parked at MoMI for visitors to explore. \n\n	Join MoMI in support
 ing our partner\, The Blue Bus Project\, with this series of free outside 
 media workshops around Queens\, called the The Blue Bus Mobile Media Lab. 
 The Blue Bus Project is a nonprofit 501(c)(3) organization committed to br
 inging participatory arts events into underserved communities around NYC\,
  heightening awareness and encouraging social and environmental change thr
 ough visual art\, performance\, and interdisciplinary workshops.&nbsp\;\n	
 \n
DTSTART:20210627T130000
DTEND:20210627T170000
LOCATION:Museum of the Moving Image
SUMMARY:Final Presentation of Media Works from the Blue Bus Mobile Media Wo
 rkshop Series
END:VEVENT
END:VCALENDAR
